BEGIN:VCALENDAR
VERSION:2.0
PRODID:-//Cleveland Rocks: Past, Present &amp; Future - ECPv6.15.20//NONSGML v1.0//EN
CALSCALE:GREGORIAN
METHOD:PUBLISH
X-WR-CALNAME:Cleveland Rocks: Past, Present &amp; Future
X-ORIGINAL-URL:https://clevelandrocksppf.org
X-WR-CALDESC:Events for Cleveland Rocks: Past, Present &amp; Future
REFRESH-INTERVAL;VALUE=DURATION:PT1H
X-Robots-Tag:noindex
X-PUBLISHED-TTL:PT1H
BEGIN:VTIMEZONE
TZID:America/New_York
BEGIN:DAYLIGHT
TZOFFSETFROM:-0500
TZOFFSETTO:-0400
TZNAME:EDT
DTSTART:20240310T070000
END:DAYLIGHT
BEGIN:STANDARD
TZOFFSETFROM:-0400
TZOFFSETTO:-0500
TZNAME:EST
DTSTART:20241103T060000
END:STANDARD
BEGIN:DAYLIGHT
TZOFFSETFROM:-0500
TZOFFSETTO:-0400
TZNAME:EDT
DTSTART:20250309T070000
END:DAYLIGHT
BEGIN:STANDARD
TZOFFSETFROM:-0400
TZOFFSETTO:-0500
TZNAME:EST
DTSTART:20251102T060000
END:STANDARD
BEGIN:DAYLIGHT
TZOFFSETFROM:-0500
TZOFFSETTO:-0400
TZNAME:EDT
DTSTART:20260308T070000
END:DAYLIGHT
BEGIN:STANDARD
TZOFFSETFROM:-0400
TZOFFSETTO:-0500
TZNAME:EST
DTSTART:20261101T060000
END:STANDARD
END:VTIMEZONE
BEGIN:VEVENT
DTSTART;TZID=America/New_York:20250721T190000
DTEND;TZID=America/New_York:20250721T210000
DTSTAMP:20260425T235137
CREATED:20250709T185016Z
LAST-MODIFIED:20250716T151640Z
UID:12709-1753124400-1753131600@clevelandrocksppf.org
SUMMARY:Workshop: Being an Effective Band Leader
DESCRIPTION:Cleveland Rocks: PPF’s Professional Development Workshops are held on the third Monday of the month from 7-9pm at the Cleveland Rocks Shop (15801 Waterloo Rd.). Each workshop will focus on a different music-related topic with discussions from 7-8pm\, followed by a 2×4 Songwriter Showcase from 8-9pm featuring 4 different artists\, 2 songs each. \nBeing an Effective Band Leader\nMon\, July 21\, 2025 • 7-9pm\nCleveland Rocks Shop (15801 Waterloo Rd\, Cleveland)\nSuccessful bandleaders share their strategies and stories about managing their own music business and working well with musicians\, booking agents\, technicians\, venues\, etc. \nFree Event! RSVP here \nGuest Speakers: Anthony Taddeo (Alla Boara/Alba Trio) and Robert Hubbard (Hubb’s Groove)\n  \n\n\n\nStay for The 2×4 Songwriter Showcase immediately following the workshop. \n2×4 Artists include: \n\nAshley Gulla\nJeffrey Cruz\nNostalgic Amnesia\nJp Hamm\n\nThe Cleveland Rocks Shop is an intimate venue with LIMITED capacity. Please arrive early to grab a seat! \nThis event is made possible with support from Cuyahoga Arts and Culture. \n2×4 Songwriter Showcase Artist Bios: \nAshley GullaAfter 8+ years of singing in and around Cleveland in an acoustic cover band\, Ashley Gulla is just stepping out as a solo singer-songwriter. Her sound blends elements of folk\, country and contemporary pop. She is thrilled to be sharing her original music.\nhttps://www.instagram.com/ashleygulla/\nJeffrey CruzHailing from Cleveland\, Ohio\, Jeffrey Cruz is an artist leaning in on soul and pop-inspired melodies. With storytelling lyrics and vocals at the forefront\, Jeffrey blends rhythmic and soothing grooves through his music. It’s a blend of nostalgic sounds with contemporary lyricism and harmony. It’s a journey into the highs and lows of emotion\, making you feel as though you’re right there\, in the middle of the exclusive rhythm and blues.\nhttps://www.jeffreycruzmusic.com/\nNostalgic Amnesia is the moniker for alternative rock songwriter Camille Champa\, unleashing raw\, grunge-inspired\, punk blues. Hailing from the gritty streets of Cleveland\, Ohio\, Camille is a seasoned singer-songwriter and guitarist with a passion for raw\, authentic rock music. Drawing inspiration from 70s and 90s rock legends alike\, her sound channels the rebellious spirit of classic rock while infusing it with a modern edge that is unmistakably her own.\nhttps://linktr.ee/nostalgicamnesia\nJp HammJp hamm is a singer songwriter that has been on the local Cleveland music scene for over 25 years. He grew up on the Eastside of Cleveland\, his family was from the south\, so his music can transform from old school hip hop to southern roots and the back flip into a reggae vibe. His songs are heartfelt and in a blink of an eye\, they will be silly. A twist of humor guaranteed to make you smile.
URL:https://clevelandrocksppf.org/event/effective-band-leader/
LOCATION:Cleveland Rocks Shop\, 15801 Waterloo Road\, Cleveland\, OH\, 44119\, United States
CATEGORIES:Community,CRPPF,Workshop
ATTACH;FMTTYPE=image/jpeg:https://clevelandrocksppf.org/wp-content/uploads/2025/07/Workshops-2025-FB-9.jpg
ORGANIZER;CN="Cleveland Rocks%3A Past%2C Present & Future":MAILTO:info@clevelandrocksppf.org
END:VEVENT
BEGIN:VEVENT
DTSTART;TZID=America/New_York:20250727T120000
DTEND;TZID=America/New_York:20250727T150000
DTSTAMP:20260425T235137
CREATED:20250531T175527Z
LAST-MODIFIED:20250531T180341Z
UID:12523-1753617600-1753628400@clevelandrocksppf.org
SUMMARY:A Celebration of Cleveland Rock History! with Deanna Adams & Ray Carr
DESCRIPTION:A Celebration of Cleveland Rock History! with Deanna Adams & Ray Carr\nSunday\, Jul 27\nDoors: 11:30 AM / Show: 12:00 PM\nBeachland Ballroom\n$15 Donation.\nhttps://www.beachlandballroom.com/e/13761354/a-celebration-of-cleveland-rock-history-with-deanna-adams-ray-carr/\nPrimarily Seated\, General Admission.\nAll Proceeds to benefit Cleveland Rocks: Past Present Future \nThe lineup includes: \n\nSteve Popovich Jr.\nEric Sosinski\nBill Peters\nFran Belkin\nDavid Spero\nAnnie Zaleski\nPolly  Zaremba-Dudek of the Clevelend Band
URL:https://clevelandrocksppf.org/event/a-celebration-of-cleveland-rock-history-with-deanna-adams-ray-carr/
LOCATION:Beachland Ballroom & Tavern\, 15711 Waterloo Rd\, Cleveland\, OH\, 44141\, United States
CATEGORIES:Community,CRPPF
ATTACH;FMTTYPE=image/png:https://clevelandrocksppf.org/wp-content/uploads/2025/05/84_Original.png
END:VEVENT
END:VCALENDAR