BEGIN:VCALENDAR
VERSION:2.0
PRODID:-//Cleveland Rocks: Past, Present &amp; Future - ECPv6.15.20//NONSGML v1.0//EN
CALSCALE:GREGORIAN
METHOD:PUBLISH
X-ORIGINAL-URL:https://clevelandrocksppf.org
X-WR-CALDESC:Events for Cleveland Rocks: Past, Present &amp; Future
REFRESH-INTERVAL;VALUE=DURATION:PT1H
X-Robots-Tag:noindex
X-PUBLISHED-TTL:PT1H
BEGIN:VTIMEZONE
TZID:America/New_York
BEGIN:DAYLIGHT
TZOFFSETFROM:-0500
TZOFFSETTO:-0400
TZNAME:EDT
DTSTART:20240310T070000
END:DAYLIGHT
BEGIN:STANDARD
TZOFFSETFROM:-0400
TZOFFSETTO:-0500
TZNAME:EST
DTSTART:20241103T060000
END:STANDARD
BEGIN:DAYLIGHT
TZOFFSETFROM:-0500
TZOFFSETTO:-0400
TZNAME:EDT
DTSTART:20250309T070000
END:DAYLIGHT
BEGIN:STANDARD
TZOFFSETFROM:-0400
TZOFFSETTO:-0500
TZNAME:EST
DTSTART:20251102T060000
END:STANDARD
BEGIN:DAYLIGHT
TZOFFSETFROM:-0500
TZOFFSETTO:-0400
TZNAME:EDT
DTSTART:20260308T070000
END:DAYLIGHT
BEGIN:STANDARD
TZOFFSETFROM:-0400
TZOFFSETTO:-0500
TZNAME:EST
DTSTART:20261101T060000
END:STANDARD
END:VTIMEZONE
BEGIN:VEVENT
DTSTART;TZID=America/New_York:20251207T180000
DTEND;TZID=America/New_York:20251207T220000
DTSTAMP:20260425T101439
CREATED:20251121T233309Z
LAST-MODIFIED:20251121T233338Z
UID:14295-1765130400-1765144800@clevelandrocksppf.org
SUMMARY:John Lennon Remembered 2025
DESCRIPTION:John Lennon Remembered 2025\nProceeds supporting Cleveland Rocks: Past\, Present\, Future \n\n\n\nDecember 7\, 2025\nBeachland Ballroom\n\n\nDoors: 5:00 pm / Show: 6:00 pm\nGet tickets\n\n\n\n\nEver read a list of “people who changed the world?” You’ll find a lot of influential names–spiritual leaders\, scientists\, inventors\, politicians–people whose lives\, for better or worse\, had significant and lasting effects on cultures and society. On lists of folks who changed the world for better\, you’ll find some from the arts. What vision\, to be remembered by history along side figures such as Albert Einstein and Ghandi. I assure you\, very few rock stars are on these lists. The shining jewel of influential rock stars\, in many eyes\, is John Lennon. Cream of the crop\, bees-knees\, cats pajamas\, or “toppermost of the poppermost” (a phrase he coined in the 1960s)\, Lennon’s catalog of music\, along side his outspoken activism\, has had lasting effect on so many aspects of world-wide society\, including pop culture\, spiritualism\, politics\, and of course\, music. The music of John Lennon has caused intense reactions\, ever since the days of screaming throngs of fans descended upon airports. It may have all started with catchy\, infectious hooks such as\, “yeah\, yeah\, yeah\,” (She Loves You\, 1964)\, but the hooks like\, “All You Need is Love\,” “Give Peace a Chance\,” and “…imagine all the people…” are only a few examples of Lennon’s catalog and its powerful influence. The world needed it and the world wanted it in the 1960s\, and we still do\, well into the 21st century. On December 7th\, 2025\, a collection of artists and performers from the Greater Cleveland Area gather at the Beachland Ballroom to honor John Lennon’s legacy by performing songs in his memory during the John Lennon Remembered Concert. The brain-child of Kendall Stauffer\, the John Lennon Remembered Concert has run annually for many seasons. The Beachland is delighted to bring this event back. \nPerformers include: Kendall Stauffer Band\, Marc Stauffer Band\, Robin Stratton\, Colette Gschwind\, Brian Henke\, Mark Teifenbach\, The Sidemen\, Twisted Vibes\, Nick and Lori\, Angelle Sheridan\, Charlie Weiner\, Ted Riser and Tom Vail\, and more!
URL:https://clevelandrocksppf.org/event/14295/
LOCATION:Beachland Ballroom & Tavern\, 15711 Waterloo Rd\, Cleveland\, OH\, 44141\, United States
CATEGORIES:Community,Concerts
ATTACH;FMTTYPE=image/jpeg:https://clevelandrocksppf.org/wp-content/uploads/2025/11/691b671c9c6196f932c4a6f6_JohnLennon_Opendate_Admat.jpg
END:VEVENT
END:VCALENDAR