BEGIN:VCALENDAR
VERSION:2.0
PRODID:-//Cleveland Rocks: Past, Present &amp; Future - ECPv6.15.20//NONSGML v1.0//EN
CALSCALE:GREGORIAN
METHOD:PUBLISH
X-WR-CALNAME:Cleveland Rocks: Past, Present &amp; Future
X-ORIGINAL-URL:https://clevelandrocksppf.org
X-WR-CALDESC:Events for Cleveland Rocks: Past, Present &amp; Future
REFRESH-INTERVAL;VALUE=DURATION:PT1H
X-Robots-Tag:noindex
X-PUBLISHED-TTL:PT1H
BEGIN:VTIMEZONE
TZID:America/New_York
BEGIN:DAYLIGHT
TZOFFSETFROM:-0500
TZOFFSETTO:-0400
TZNAME:EDT
DTSTART:20250309T070000
END:DAYLIGHT
BEGIN:STANDARD
TZOFFSETFROM:-0400
TZOFFSETTO:-0500
TZNAME:EST
DTSTART:20251102T060000
END:STANDARD
BEGIN:DAYLIGHT
TZOFFSETFROM:-0500
TZOFFSETTO:-0400
TZNAME:EDT
DTSTART:20260308T070000
END:DAYLIGHT
BEGIN:STANDARD
TZOFFSETFROM:-0400
TZOFFSETTO:-0500
TZNAME:EST
DTSTART:20261101T060000
END:STANDARD
BEGIN:DAYLIGHT
TZOFFSETFROM:-0500
TZOFFSETTO:-0400
TZNAME:EDT
DTSTART:20270314T070000
END:DAYLIGHT
BEGIN:STANDARD
TZOFFSETFROM:-0400
TZOFFSETTO:-0500
TZNAME:EST
DTSTART:20271107T060000
END:STANDARD
END:VTIMEZONE
BEGIN:VEVENT
DTSTART;TZID=America/New_York:20260319T160000
DTEND;TZID=America/New_York:20260319T180000
DTSTAMP:20260425T235821
CREATED:20260110T021351Z
LAST-MODIFIED:20260113T215257Z
UID:14687-1773936000-1773943200@clevelandrocksppf.org
SUMMARY:Sound of the Land: Maura Rogers & Al Moses (Duo)
DESCRIPTION:Cleveland Rocks:PPF and the Fidelity Hotel in Downtown Cleveland are partnering to present the Sound of the Land Live Music Series. Each month\, enjoy music from a different local artist to elevate your Thursday night happy hour. Free shows!\n\n\n\nMarch 19\, 2026 | 4-6pm | Fidelity Hotel Lobby\nMaura Rogers & Al Moses (duo)(of Maura Rogers & The Bellows)\nGenre | Folk\, Americana\, Classic Rock\n\nMaura Rogers and The Bellows are a Cleveland-based\, all original band with an engaging sound rooted in Americana\, Folk and Classic Rock. Think Fleetwood Mac meets Brandi Carlile. Recognized as one of Cleveland’s Best Live Bands\, Maura Rogers and The Belllows have headlined local festivals\, played Cleveland’s own Rock and Roll Hall of Fame and House of Blues and sold out shows at the local favorite spots like the Beachland Ballroom and The Music Box.\n\nThey’ve toured the East Coast\, played Europe\, and continue to win new fans over with their captivating sound and palpable stage presence. The passionate vocals and prolific songwriting of Maura Rogers are supported by lush harmonies\, a dynamic rhythm section\, and intricate arrangements with driving accordion and guitar leads. Expect energy and emotion and walk away feeling something profound.\n\n\n\nLearn more: https://fidelityhotelcle.com/happenings#soundofthelandlineup
URL:https://clevelandrocksppf.org/event/sound-of-the-land-maura-rogers-al-moses-duo/
LOCATION:The Fidelity Hotel\, 1940 E 6th St\, Cleveland\, OH\, 44114\, United States
CATEGORIES:Concerts
ATTACH;FMTTYPE=image/jpeg:https://clevelandrocksppf.org/wp-content/uploads/2026/01/ClevelandRocksBanner_March-2026-1920x1005-1.jpg
ORGANIZER;CN="Cleveland Rocks%3A Past%2C Present & Future":MAILTO:info@clevelandrocksppf.org
END:VEVENT
BEGIN:VEVENT
DTSTART;TZID=America/New_York:20260403T180000
DTEND;TZID=America/New_York:20260403T200000
DTSTAMP:20260425T235821
CREATED:20260306T193123Z
LAST-MODIFIED:20260306T193516Z
UID:15082-1775239200-1775246400@clevelandrocksppf.org
SUMMARY:Waterloo Makes Music: Xe La and Chris Tuma
DESCRIPTION:Waterloo Makes Music is a free concert series\, presented by Cleveland Rocks: Past\, Present\, Future\, showcasing acts from the Cleveland music scene at various locations in the Waterloo Arts & Entertainment District. \nFri\, April 3\, 2026 • 6-8pm\nCleveland Rocks Shop (15801 Waterloo Rd)\nFree event! RSVP Here. \n\n\nXe La\nStarting in the D.I.Y. 90’s scene and evolving into life time career of music and art through Cleveland and abroad. Xe La got started with Cows in the Graveyard and a list of local ensembles and groups that ends with the BIRDOG CATS AND LISTEN LITTLE MAN in 2019. Since then the chord wrangling guitarist croons with a reverent spirit of Leon Redbone and Shel Silverstein at speak easy’s and private parties around the north coast region. Thankful to be invited Xe La looks forward to sharing new material and maybe some older stuff friends may recall.\nhttps://xelaworx.bandcamp.com/\nhttps://open.spotify.com/artist/1sVRzSLxvFS6qXHr9dzjXf \nChris Tuma\nLyricist Chris Tuma is a Lakewood\, Ohio–based songwriter with more than 100 original songs and 10 independently released albums. His singular\, slightly off-kilter sound is rhythmically driven and raw\, channeling the communal spirit of a drum circle through the pulse of an acoustic guitar. Performing solo or with AT33\, Tuma delivers dynamic shows ranging from stripped-down acoustic sets to high-energy rock performances\, grounded in authenticity and a deep connection to his audience.\nhttps://youtu.be/k9HbICoJ874?si=n3ivCsLJWUPMlEZ9\nhttps://at33.bandcamp.com/ \n\n\n\nThis event is made possible with support from Cuyahoga Arts and Culture and The Ohio Arts Council.\n\n\n 
URL:https://clevelandrocksppf.org/event/waterloo-makes-music-xela-christuma/
LOCATION:Cleveland Rocks Shop\, 15801 Waterloo Road\, Cleveland\, OH\, 44119\, United States
CATEGORIES:Concerts,CRPPF,Waterloo Makes Music
ATTACH;FMTTYPE=image/jpeg:https://clevelandrocksppf.org/wp-content/uploads/2026/03/33-WMM-March.jpg
ORGANIZER;CN="Cleveland Rocks%3A Past%2C Present & Future":MAILTO:info@clevelandrocksppf.org
END:VEVENT
BEGIN:VEVENT
DTSTART;TZID=America/New_York:20260501T180000
DTEND;TZID=America/New_York:20260501T200000
DTSTAMP:20260425T235821
CREATED:20260401T203528Z
LAST-MODIFIED:20260401T204129Z
UID:15409-1777658400-1777665600@clevelandrocksppf.org
SUMMARY:Waterloo Makes Music: Rustic Skies and The Baker's Basement
DESCRIPTION:Waterloo Makes Music is a free concert series\, presented by Cleveland Rocks: Past\, Present\, Future\, showcasing acts from the Cleveland music scene at various locations in the Waterloo Arts & Entertainment District. \nFri\, May 1\, 2026 • 6-8pm\nTreelawn Music Hall (15335 Waterloo Rd)\nFree event!  RSVP Here. \n\n\nRustic SkiesRustic Skies is an indie band from the Cleveland/Akron area fronted by an electric cello. Through songs that showcase the highs and lows of life and the human experience\, their music blends jazz\, funk and rock to bring a unique performance to the stage. Within their first year\, they have had the honor of releasing four singles\, performing at IngenuityFest and Folk and Flora Fest\, opening for The Wildwoods\, and being named Best New Artist in the 2025 Cleveland Music Awards.https://linktr.ee/Rusticskieshttps://www.instagram.com/rusticskiesband/https://www.facebook.com/people/Rustic-Skies/61569145451200\n\nThe Baker’s BasementTwo-piece\, Cleveland based adventure-folk band the Baker’s Basement (tBB) features the eclectic musical stylings of vocalist/drummer Kate Dedinsky and vocalist/guitarist Adam Grindler. At their rhythmic core pulses an orange striped\, homemade\, bucket-drum concoction\, the funky back beat on which Dedinsky performs standing up with her signature swagger and sway. The duo’s intimate sound\, rooted in a spirited and poignant flavor of indie-folk music and topped with playful vocal layers\, offers a heart-wrenching yet at times humorous sonic signature that’s altogether their own. Always active live and in studio\, tBB released a full length album in November of 2024 titled “Down Down Domino” followed by two 2025 singles: “Singing to the Plants” and “Come To Terms with Going Ghost” (released Nov 20\, 2025). TBB is kicking off their 2026 live schedule with a Mid-Atlantic tour in line with their next single release entitled “Worry Now” – the first of several singles due to release in 2026.https://www.thebakersbasement.com/https://www.facebook.com/theBakersBasement\n\n\n\nThis event is made possible with support from Cuyahoga Arts and Culture and The Ohio Arts Council.\n\n\n 
URL:https://clevelandrocksppf.org/event/3waterloo-makes-music-rustic-skies-bakers-basement/
LOCATION:The Treelawn\, 15335 Waterloo Road\, Cleveland\, Ohio\, 44110\, United States
CATEGORIES:Concerts,CRPPF,Waterloo Makes Music
ATTACH;FMTTYPE=image/jpeg:https://clevelandrocksppf.org/wp-content/uploads/2026/04/41-WMM-March.jpg
ORGANIZER;CN="Cleveland Rocks%3A Past%2C Present & Future":MAILTO:info@clevelandrocksppf.org
END:VEVENT
BEGIN:VEVENT
DTSTART;TZID=America/New_York:20260520T160000
DTEND;TZID=America/New_York:20260520T180000
DTSTAMP:20260425T235821
CREATED:20260424T215642Z
LAST-MODIFIED:20260424T220528Z
UID:15542-1779292800-1779300000@clevelandrocksppf.org
SUMMARY:Sound of the Land: Mikey Silas Duo
DESCRIPTION:Cleveland Rocks:PPF and the Fidelity Hotel in Downtown Cleveland are partnering to present the Sound of the Land Live Music Series. Each month\, enjoy music from a different local artist to elevate your Thursday night happy hour. Free shows!\n\n\n\nMay 20\, 2026 | 4-6pm | Fidelity Hotel Lobby\nMikey Silas Duo\n\nLeading singer and songwriter Mikey Silas with guitarist Michael Haburay\, from the soulful band Apostle Jones\, are multi-dimensional and award recognized performing artists from Cleveland\, Ohio. They have an insatiable grass roots drive to build-up community and curates several events for emerging artists and creatives at local music venues. They released their debut studio album in March and specialize in blending original music with crowd favorites for a live soulful musical experience! www.apostlejones.com\n\n\n\nLearn more: https://fidelityhotelcle.com/
URL:https://clevelandrocksppf.org/event/sound-of-the-land-mikeysilas-duo/
LOCATION:The Fidelity Hotel\, 1940 E 6th St\, Cleveland\, OH\, 44114\, United States
CATEGORIES:Concerts
ATTACH;FMTTYPE=image/jpeg:https://clevelandrocksppf.org/wp-content/uploads/2026/04/ClevelandRocksBanner_May-2026-1.jpg
ORGANIZER;CN="Cleveland Rocks%3A Past%2C Present & Future":MAILTO:info@clevelandrocksppf.org
END:VEVENT
BEGIN:VEVENT
DTSTART;TZID=America/New_York:20260605T183000
DTEND;TZID=America/New_York:20260605T203000
DTSTAMP:20260425T235821
CREATED:20260401T204028Z
LAST-MODIFIED:20260401T204028Z
UID:15411-1780684200-1780691400@clevelandrocksppf.org
SUMMARY:Waterloo Makes Music: Apostle Jones and Taylor Lamborn
DESCRIPTION:Waterloo Makes Music is a free concert series\, presented by Cleveland Rocks: Past\, Present\, Future\, showcasing acts from the Cleveland music scene at various locations in the Waterloo Arts & Entertainment District. \nFri\, June 5\, 2026 • 6:30-8:30pm\nWaterloo Tower Stage (E.156th at Waterloo Rd\, Cleveland)\nFree event! RSVP Here. \n\n\nApostle JonesApostle Jones is a dynamic soul band that bends styles and genres to create a uniquely collaborative\, fresh sound. Pulling from collective influences of Rock\, R’n’B\, Blues\, Gospel and Funk\, Apostle Jones soars with original music\, serves crowd pleasers and spreads a contagious joy for their hometown Cleveland\, OH. They released their first album ‘2nd Chances Don’t Come Easy’ in March of 2026. www.apostlejonesing.com\n\nTaylor LambornTaylor Lamborn is a Cleveland\, Ohio–based singer-songwriter blending indie pop\, blues\, and rock with a powerful vocal presence and emotionally driven songwriting. An active force in the Northeast Ohio music scene\, she has played music internationally\, and released multiple original projects all as a self-managed independent artist. Beyond performing\, Lamborn is also a dedicated music educator and community advocate\, recently stepping into the role of Executive Director at Roots of American Music. Her latest single\, “Where the Heartache Ends\,” was released January 2\, 2026.http://taylorlamborn.com\n\n\n\nThis event is made possible with support from Cuyahoga Arts and Culture and The Ohio Arts Council.\n\n\n 
URL:https://clevelandrocksppf.org/event/waterloo-makes-music-apostle-jones-taylor-lamborn/
LOCATION:Waterloo Tower\, Waterloo Rd at 156th St.\, Cleveland\, OH\, 44110\, United States
CATEGORIES:Concerts,CRPPF,Waterloo Makes Music
ATTACH;FMTTYPE=image/jpeg:https://clevelandrocksppf.org/wp-content/uploads/2026/04/65-WMM-June.jpg
ORGANIZER;CN="Cleveland Rocks%3A Past%2C Present & Future":MAILTO:info@clevelandrocksppf.org
END:VEVENT
END:VCALENDAR