BEGIN:VCALENDAR
VERSION:2.0
PRODID:-//Cleveland Rocks: Past, Present &amp; Future - ECPv6.15.20//NONSGML v1.0//EN
CALSCALE:GREGORIAN
METHOD:PUBLISH
X-ORIGINAL-URL:https://clevelandrocksppf.org
X-WR-CALDESC:Events for Cleveland Rocks: Past, Present &amp; Future
REFRESH-INTERVAL;VALUE=DURATION:PT1H
X-Robots-Tag:noindex
X-PUBLISHED-TTL:PT1H
BEGIN:VTIMEZONE
TZID:America/New_York
BEGIN:DAYLIGHT
TZOFFSETFROM:-0500
TZOFFSETTO:-0400
TZNAME:EDT
DTSTART:20240310T070000
END:DAYLIGHT
BEGIN:STANDARD
TZOFFSETFROM:-0400
TZOFFSETTO:-0500
TZNAME:EST
DTSTART:20241103T060000
END:STANDARD
BEGIN:DAYLIGHT
TZOFFSETFROM:-0500
TZOFFSETTO:-0400
TZNAME:EDT
DTSTART:20250309T070000
END:DAYLIGHT
BEGIN:STANDARD
TZOFFSETFROM:-0400
TZOFFSETTO:-0500
TZNAME:EST
DTSTART:20251102T060000
END:STANDARD
BEGIN:DAYLIGHT
TZOFFSETFROM:-0500
TZOFFSETTO:-0400
TZNAME:EDT
DTSTART:20260308T070000
END:DAYLIGHT
BEGIN:STANDARD
TZOFFSETFROM:-0400
TZOFFSETTO:-0500
TZNAME:EST
DTSTART:20261101T060000
END:STANDARD
END:VTIMEZONE
BEGIN:VEVENT
DTSTART;TZID=America/New_York:20250606T160000
DTEND;TZID=America/New_York:20250608T160000
DTSTAMP:20260425T211221
CREATED:20250526T165328Z
LAST-MODIFIED:20250526T165840Z
UID:12510-1749225600-1749398400@clevelandrocksppf.org
SUMMARY:THE LOST WEEKEND: The Photography of May Pang AND The George Martins
DESCRIPTION:Cleveland Rocks: Past\, Present\, Future presents …****Fri-Sun\, June 6-8THE LOST WEEKEND: The Photography of May PangTreelawn Music Hall • 15335 Waterloo Rd\, Cleveland.Open to the Public: Fri 4-8pm / Sat 12-6pm / Sun 12-4pmFree Event!  VIP Q&A and Photo Op Available!\n\nFew people knew John Lennon as intimately as May Pang. Pang was Lennon’s lover during the infamous “Lost Weekend” which lasted 18 months during late 1973 through 1975. During this highly creative time for Lennon\, Pang took candid photos of Lennon in a comfortable\, relaxed environment. A collection of these private photographs will be on display and available for purchase.\n\nA portion of photo sales directly benefit Cleveland Rocks:PPF’s mission.\nMeet May Pang in Cleveland! Photo Ops reserved for customers and VIP guests only (see below).\n\n****Fri\, June 6 • 8:30pmThe George Martins\, NEO Beatles Tribute BandTreelawn Music Hall • 15335 Waterloo Rd\, Cleveland.Tickets $20 • Purchase at www.thetreelawn.com.\n****VIP offering: Fri\, June 6thAttend an exclusive Q&A and Photo Op with May Pang (8pm)\, hosted by David Spero\, bundled with reserved seating at The George Martins concert directly following.Tickets: $50 Donation to Cleveland Rocks:PPF\n\n\n 
URL:https://clevelandrocksppf.org/event/maypang-georgemartins/
LOCATION:The Treelawn\, 15335 Waterloo Road\, Cleveland\, Ohio\, 44110\, United States
CATEGORIES:Concerts,CRPPF
ATTACH;FMTTYPE=image/jpeg:https://clevelandrocksppf.org/wp-content/uploads/2025/05/MayPang-FB-Header.jpg
ORGANIZER;CN="Cleveland Rocks%3A Past%2C Present & Future":MAILTO:info@clevelandrocksppf.org
END:VEVENT
BEGIN:VEVENT
DTSTART;TZID=America/New_York:20250606T180000
DTEND;TZID=America/New_York:20250606T200000
DTSTAMP:20260425T211221
CREATED:20250325T174831Z
LAST-MODIFIED:20250425T155708Z
UID:12195-1749232800-1749240000@clevelandrocksppf.org
SUMMARY:Waterloo Makes Music: Guy Snowdon & The Citizens and Goodmorning Valentine
DESCRIPTION:Waterloo Makes Music is a free concert series\, presented by Cleveland Rocks: Past\, Present\, Future\, showcasing acts from the Cleveland music scene at various locations in the Waterloo Arts & Entertainment District. \nFri\, June 6\, 2025 • 6-8pm\nWaterloo Tower Stage (E.156th at Waterloo Rd). \nGuy Snowdon & The CitizensBritish American Rock Band. From the ancestral home of English heavy metal to the origin of “rock and roll”\, Guy Snowdon & The Citizens presents a brand new sound infused with anthemic guitars\, blues rock beats\, hair metal screams\, and Americana harmonies. With a debut in October 2019\, the project is the creation of Guy Snowdon\, a Cleveland\, Ohio transplant from Birmingham\, UK.”Irresistable anthems\, excellent lead vocals and melodic solos” – Powerplay Magazinehttp://www.guyandthecitizens.comhttps://open.spotify.com/artist/7zsVp2fuHfBUXQpODizDVQ…https://youtube.com/@guysnowdon8954https://www.instagram.com/guyandthecitizens\n\nGoodmorning ValentineGoodmorning Valentine is the moniker for the singer songwriter Joseph Allen Beltram. For the last 20 years\, Joseph has been working away on his albums and putting himself on the road\, traveling all over the United States both as a solo artist and with friends\, playing places of some notoriety as well as dives you’ve never heard of\, making friends and gathering a small audience as he goes. Songs of love\, songs of travel\, songs of political intrigue. As the frontman/creative engine of Goodmorning Valentine\, his songs have been covered by David Mayfield\, Al Karpinski of The Six Parts Seven\, and Shivering Timbers.https://www.babyhouserecords.com/goodmorningvalentine.bandcamp.comhttps://www.facebook.com/goodmorningvalentinehttps://open.spotify.com/artist/3ARqocg8NkhL6wkwsOL5z1https://www.youtube.com/@goodmorningvalentinehttps://www.instagram.com/goodmorningvalentine/\n\n\nFree Event!  RSVP Here\n\n\nThis event is made possible with support from Cuyahoga Arts and Culture. \n 
URL:https://clevelandrocksppf.org/event/waterloo-makes-music-guysnowdon/
LOCATION:Waterloo Tower\, Waterloo Rd at 156th St.\, Cleveland\, OH\, 44110\, United States
CATEGORIES:Concerts,CRPPF,Waterloo Makes Music
ATTACH;FMTTYPE=image/jpeg:https://clevelandrocksppf.org/wp-content/uploads/2025/04/WMM-2025-7.jpg
ORGANIZER;CN="Cleveland Rocks%3A Past%2C Present & Future":MAILTO:info@clevelandrocksppf.org
END:VEVENT
BEGIN:VEVENT
DTSTART;TZID=America/New_York:20250616T190000
DTEND;TZID=America/New_York:20250616T210000
DTSTAMP:20260425T211221
CREATED:20250423T183335Z
LAST-MODIFIED:20250616T025653Z
UID:12401-1750100400-1750107600@clevelandrocksppf.org
SUMMARY:Workshop: Performing Rights Organizations (PROs)
DESCRIPTION:Cleveland Rocks: PPF’s Professional Development Workshops are held on the third Monday of the month from 7-9pm at the Cleveland Rocks Shop (15801 Waterloo Rd.). Each workshop will focus on a different music-related topic with discussions from 7-8pm\, followed by a 2×4 Songwriter Showcase from 8-9pm featuring 4 different artists\, 2 songs each. \nPerforming Rights Organizations (PROs)\nMon\, June 16\, 2025 • 7-9pm\nCleveland Rocks Shop (15801 Waterloo Rd\, Cleveland)\nPerforming Rights Organizations are responsible for collecting income on behalf of songwriters and music publishers when a song is publicly broadcast or performed. \nFree Event! RSVP here \nPresenter: David Kennedy\n\nStay for The 2×4 Songwriter Showcase immediately following the workshop. \n2×4 Artists include: \n\nKari Ann Rutushin\nBeezy Douglas\nJoe Brown\nCaramel\n\nThe Cleveland Rocks Shop is an intimate venue with LIMITED capacity. Please arrive early to grab a seat! \nThis event is made possible with support from Cuyahoga Arts and Culture. \n2×4 Songwriter Showcase Artist Bios: \nKari Ann Rutushin is a Northeast Ohio-based singer\, songwriter\, and multi-instrumentalist known for her wide-ranging style that blends jazz\, folk\, R&B\, Americana\, and early country. A versatile performer\, she plays ukulele\, piano\, washboard\, and flute\, bringing a unique sound to every stage. \nShe performs with several bands including Swap Meet\, Bent String\, Larry Elefante\, and The Spyder Stompers\, each showcasing different facets of her musical identity. Whether solo or in a group\, Kari Ann’s performances are heartfelt\, engaging\, and rooted in a deep love for diverse musical traditions. Kari has also been a teaching and performance artist for the Cleveland based nonprofit\, ROOTs of American Music for several years. \nBeezy DouglasBrian “Beezy” Douglas is a Cleveland Heights-based singer\, songwriter\, and storyteller whose music blends elements of folk\, rock\, country\, blues\, and soul. After starting his musical journey at New York City open mics in 2010\, Beezy has spent the past 15 years honing his craft through performances\, collaborations\, and songwriting. His lyrics explore the harsh realities of daily life\, the ups and downs of relationships\, and the ongoing struggle to maintain dignity and integrity in a world often stacked against us. His background in storytelling\, activism\, and journalism continues to shape the deeply personal and socially conscious themes woven throughout his live performances. Beezy also hosts Showcase Chaos! — a monthly open stage at Wizbang Theatre every 3rd Thursday. The next Showcase Chaos will be on June 19th\, themed Freedom. Learn more at https://bzdug.com. \nJoe Brown \nJoe Brown is a songwriter\, performer\, and music industry professional based in Cleveland\, Ohio. A recent graduate of Baldwin Wallace University with a degree in Music Industry\, Joe’s approach to music blends tape-era sounds with a modern DIY ethic. He leads the Joe Brown Band and also performs solo and in an acoustic duo under the name ‘Squares.’ Joe recently completed an artist residency at the Rock & Roll Hall of Fame\, where he refined his voice as both an artist and as a storyteller. \nCaramel \nCaramel lives and breathes music. At 22 years old\, he writes\, performs\, and produces all of his work. He began his musical journey when he studied classical piano at the Cleveland Institute of Music for 10 years\, and transitioned into songwriting in his freshman year of high school. Caramel’s music ranges from R&B\, pop\, electronic\, and alternative music. On top of his musical talents\, he is also the founder and executive director of Living In Color\, the only multidisciplinary performance art production of its kind\, which highlights black life in the US through poetry\, music\, dance\, and film. Through the 8-month event planning process\, he led the writing\, choreography\, cinematography\, and music composition. His theme “Traveler”\, exudes his persona of a wandering traveler. He believes we are all travelers\, and he writes his music to find his way. His upcoming song “Greener”\, released on May 2nd explores heartbreak and self-discovery.
URL:https://clevelandrocksppf.org/event/workshop-pros/
LOCATION:Cleveland Rocks Shop\, 15801 Waterloo Road\, Cleveland\, OH\, 44119\, United States
CATEGORIES:Community,CRPPF,Workshop
ATTACH;FMTTYPE=image/jpeg:https://clevelandrocksppf.org/wp-content/uploads/2025/04/Workshops-2025-FB-2.jpg
ORGANIZER;CN="Cleveland Rocks%3A Past%2C Present & Future":MAILTO:info@clevelandrocksppf.org
END:VEVENT
BEGIN:VEVENT
DTSTART;TZID=America/New_York:20250620T190000
DTEND;TZID=America/New_York:20250620T210000
DTSTAMP:20260425T211221
CREATED:20250616T174713Z
LAST-MODIFIED:20250616T175153Z
UID:12618-1750446000-1750453200@clevelandrocksppf.org
SUMMARY:South Euclid Food Truck Park Concert Series: Country Honk
DESCRIPTION:Cleveland Rocks:PPF is excited to partner with the City of South Euclid for their 2025 Food Truck Park Concert Series!\nCountry HonkFri\, June 20th | 7-9pmSouth Euclid Food Truck Park (4477 Rushton Rd)Free Show\n\nCountry Honk is a talented four-piece band hailing from Cleveland\, OH. The band has been making waves in the Ohio music scene with their unique blend of originals and covers. Drawing inspiration from classic artists such as Hank Williams\, Buck Owens\, Merle Haggard\, and Willie Nelson\, Country Honk infuses their music with a modern sensibility that appeals to audiences of all ages. Their catchy hooks\, soulful harmonies\, and electrifying stage presence have earned them a loyal following throughout the Midwest and beyond. Whether they’re playing at a honky-tonk or a festival stage\, Country Honk never fails to deliver a high-energy\, crowd-pleasing performance.https://countryhonkmusic.com/\n\nFeatured Food Trucks: Kochi Flava Factory + Le’ Scoop Dessert Boutique\n\nLearn more about the South Euclid Food Truck park here:https://cityofsoutheuclid.com/foodtruckpark
URL:https://clevelandrocksppf.org/event/south-euclid-food-truck-park-concert-series-country-honk/
LOCATION:South Euclid Food Truck Park\, 4477 Rushton Rd\, South Euclid\, OH\, 44121\, United States
CATEGORIES:Concerts,CRPPF
ATTACH;FMTTYPE=image/jpeg:https://clevelandrocksppf.org/wp-content/uploads/2025/06/SEFTP.jpg
ORGANIZER;CN="Cleveland Rocks%3A Past%2C Present & Future":MAILTO:info@clevelandrocksppf.org
END:VEVENT
END:VCALENDAR