BEGIN:VCALENDAR
VERSION:2.0
PRODID:-//Cleveland Rocks: Past, Present &amp; Future - ECPv6.15.20//NONSGML v1.0//EN
CALSCALE:GREGORIAN
METHOD:PUBLISH
X-WR-CALNAME:Cleveland Rocks: Past, Present &amp; Future
X-ORIGINAL-URL:https://clevelandrocksppf.org
X-WR-CALDESC:Events for Cleveland Rocks: Past, Present &amp; Future
REFRESH-INTERVAL;VALUE=DURATION:PT1H
X-Robots-Tag:noindex
X-PUBLISHED-TTL:PT1H
BEGIN:VTIMEZONE
TZID:America/New_York
BEGIN:DAYLIGHT
TZOFFSETFROM:-0500
TZOFFSETTO:-0400
TZNAME:EDT
DTSTART:20240310T070000
END:DAYLIGHT
BEGIN:STANDARD
TZOFFSETFROM:-0400
TZOFFSETTO:-0500
TZNAME:EST
DTSTART:20241103T060000
END:STANDARD
BEGIN:DAYLIGHT
TZOFFSETFROM:-0500
TZOFFSETTO:-0400
TZNAME:EDT
DTSTART:20250309T070000
END:DAYLIGHT
BEGIN:STANDARD
TZOFFSETFROM:-0400
TZOFFSETTO:-0500
TZNAME:EST
DTSTART:20251102T060000
END:STANDARD
BEGIN:DAYLIGHT
TZOFFSETFROM:-0500
TZOFFSETTO:-0400
TZNAME:EDT
DTSTART:20260308T070000
END:DAYLIGHT
BEGIN:STANDARD
TZOFFSETFROM:-0400
TZOFFSETTO:-0500
TZNAME:EST
DTSTART:20261101T060000
END:STANDARD
END:VTIMEZONE
BEGIN:VEVENT
DTSTART;TZID=America/New_York:20251003T190000
DTEND;TZID=America/New_York:20251003T210000
DTSTAMP:20260425T112701
CREATED:20250808T175936Z
LAST-MODIFIED:20250809T232301Z
UID:13270-1759518000-1759525200@clevelandrocksppf.org
SUMMARY:Waterloo Makes Music: Country Honk and Cowboy Princess Brigade
DESCRIPTION:Waterloo Makes Music is a free concert series\, presented by Cleveland Rocks: Past\, Present\, Future\, showcasing acts from the Cleveland music scene at various locations in the Waterloo Arts & Entertainment District. \nFri\, October 3\, 2025 • 7-9pm\nTreelawn Social Club (15335 Waterloo Rd) \nCountry H0nkCountry Honk is a four-piece honky tonk band proudly rooted in Cleveland\, Ohio\, blending classic country tradition with the raw energy of rock ’n’ roll. Known for their dynamic live shows and sharp songwriting\, the band draws inspiration from legends like Hank Williams\, Buck Owens\, Merle Haggard\, and Willie Nelson\, while channeling the spirit of the country rock movement of the ’60s and ’70s.\nhttps://countryhonkmusic.com\nhttps://www.facebook.com/106825328145277\nhttps://www.instagram.com/countryhonkmusicohio\nhttps://www.youtube.com/channel/UCkQkIaivecuUvCk0SegBueg\n\n\nCowboy Princess BrigadeCowboy Princess Brigade is an Americana-soul band from Cleveland\, OH. The six piece ensemble began during the spring of 2024 and quickly thereafter released their first EP\, “Rolling Up Silver”. Brought together by the vibrant local jam scene and a shared passion for shenanigans\, the group became fast friends and musical cohorts.\nThe group brings a unique style and flair to the stage\, featuring complex yet surprisingly fluid instrumentation. They include guitar\, ukulele\, fiddle\, trombone\, banjo\, bass\, and drums as well as featured dancers and performers. This eclectic combination makes a visually interesting and acoustically dynamic band that is distinctively their own.\nThe group draws on a wide range of American musical influences\, from jazz and bluegrass to rock and roll. Deeply rooted in the spirit of improvisation and inspired by the rich traditions of New Orleans jazz\, their sound is spontaneous and ever evolving. No two shows are the same.https://www.cowboyprincessbrigade.com/https://www.facebook.com/profile.php?id=61555213901575http://instagram.com/cowboyprincessbrigadehttps//open.spotify.com/artist/4p3k4oMH78f2S7KTOs1qgy?si=8b-SUHgiTTqpp8EEZosOhg\n\n\n\nFree Event!  RSVP Here\n\n\nThis event is made possible with support from Cuyahoga Arts and Culture. \n 
URL:https://clevelandrocksppf.org/event/waterloo-makes-music-countryhonk/
LOCATION:The Treelawn\, 15335 Waterloo Road\, Cleveland\, Ohio\, 44110\, United States
CATEGORIES:Concerts,CRPPF,Waterloo Makes Music
ATTACH;FMTTYPE=image/jpeg:https://clevelandrocksppf.org/wp-content/uploads/2025/08/WMM-2025-8.jpg
ORGANIZER;CN="Cleveland Rocks%3A Past%2C Present & Future":MAILTO:info@clevelandrocksppf.org
END:VEVENT
BEGIN:VEVENT
DTSTART;TZID=America/New_York:20251018T180000
DTEND;TZID=America/New_York:20251018T220000
DTSTAMP:20260425T112701
CREATED:20250804T192655Z
LAST-MODIFIED:20250828T032803Z
UID:13228-1760810400-1760824800@clevelandrocksppf.org
SUMMARY:2025 Rock Solid Gala: Benefit for Cleveland Rocks:PPF
DESCRIPTION:4TH ANNUAL ROCK SOLID GALA\nA Benefit for Cleveland Rocks: Past\, Present\, Future.Since 2020\, we’ve contracted over 300 artists and industry experts\, provided workshops to 150+ creatives since 2023\, and in 2025 alone\, helped engage over 100\,000 viewers through online streams. We also advocate for policies and initiatives that strengthen the music ecosystem—partnering with city officials\, promoting music tourism\, and working with local businesses to boost economic impact.\n.\nOur year-round programs and services support equitable infrastructure\, career development\, and expanded opportunities across all genres. Cleveland music creatives spend nearly $7\,900 annually on music services—contributing to a $29.58 million local impact\, including $5.16 million in recording. Live music alone brings in $58 million each year and fuels over 15\,000 performances annually.\n.\nWith a mission focused on original music makers and the establishments that support them\, CR:PPF provides impactful support that solidifies this rock solid truth: Cleveland IS A Music City..Join us and show your support:\nSaturday\, October 18\, 2025\nTreelawn Music Hall15335 Waterloo Rd\, Cleveland.\n.\nCocktail Hour with light snacks 6-7pm.Event Starts at 7pm.\n\nEnjoy sets from local bands and artists who are moving the Cleveland music scene forward.\nBid on some unique and one of a kind raffle prizes and local auction items including house concerts\, tickets\, apparel\, gift baskets and more.\nHear from music community advocates and leaders who are passionate about driving the local music sector forward.\nEnjoy a catered dinner and a cash bar while you mingle with your peers\, swap your favorite stories and toast to a great night out for a great cause.\n\n\nTICKETS\nGeneral Admission: $175Your ticket includes parking pass\, 2 drink tickets and a catered dinner.\nBuy Tickets. \nMASTER OF CEREMONIES\nBrent Kirby \nPERFORMANCES BY\nWelshly Arms\nKid Tigrrr\nNavasha Daya \nSPONSORS\nHeadliner Sponsors:Nick and Lorie HowleyTito’s Vodka\n. \nOpening Act Sponsors:Anjie and Jim AndersonJerry Mizer and Jamie BelkinRock & Roll Hall of FameSchool of Rock Cleveland \n.\nWarm Up Sponsors:Judy and Jack BoessneckBenesch LawChagrin Falls Popcorn Shop\nGotta Groove RecordsTim ConnorsPam and Adam FishmanRichard Greco\nFanon HillShelly NorehadTerry and Sally Stewart\n.\nSponsorships:Packages beginning at $1\,000. Contact Lisa Paul-Sierk at 216-926-1702 or development@clevelandrocksppf.org.
URL:https://clevelandrocksppf.org/event/2025-rock-solid-gala-benefit-for-cleveland-rocksppf/
LOCATION:The Treelawn\, 15335 Waterloo Road\, Cleveland\, Ohio\, 44110\, United States
CATEGORIES:Community,CRPPF
ATTACH;FMTTYPE=image/jpeg:https://clevelandrocksppf.org/wp-content/uploads/2025/08/RockSolid-EB-Banner.jpg
ORGANIZER;CN="Cleveland Rocks%3A Past%2C Present & Future":MAILTO:info@clevelandrocksppf.org
END:VEVENT
BEGIN:VEVENT
DTSTART;TZID=America/New_York:20251020T180000
DTEND;TZID=America/New_York:20251020T210000
DTSTAMP:20260425T112701
CREATED:20251008T184728Z
LAST-MODIFIED:20251014T194802Z
UID:13777-1760983200-1760994000@clevelandrocksppf.org
SUMMARY:Workshop & 2x4 Showcase: The Importance of College and Community Radio
DESCRIPTION:Cleveland Rocks: PPF’s Professional Development Workshops are held on the third Monday of the month. Each workshop will focus on a different music-related topic\, followed by a 2×4 Songwriter Showcase featuring 4 different artists\, 2 songs each. \nThe Importance of College and Community Radio\nMon\, October 20\, 2025 • 6pm\nBeachland Ballroom (15711 Waterloo Rd) \nFree Event! RSVP here \nPanelists: Alison Bomgardner (XCSB)\, Liam Main (XCSB)\, Jasen Sokol (WJCU)\, Rachel Hunt (WRUW)\nWith the recent elimination of CSU’s college radio station WCSB\, October’s workshop will feature a panel discussion with staff from local radio stations to discuss the importance of college and community radio. \n\n\n\nStay for The 2×4 Songwriter Showcase immediately following the workshop. \n2×4 Artists include: \n\nNicole Otero\nJessica Jonczyk\nMoon Cactus\nJosee McGee\n\nThis event is made possible with support from Cuyahoga Arts and Culture. \n2×4 Songwriter Showcase Artist Bios: \n\nNicole OteroNicole Otero is a singer/songwriter based in Cleveland\, Ohio with heavy folk influences. From Nick Drake to Joni Mitchell\, Nicole channels an energy through her finger-picking and introspective lyrics sorely missing from the local scene.https://nicoleoterosings.bandcamp.com/album/home-recordings\n\nJessica JonczykJessica Jonczyk is a cellist and singer-songwriter from Akron\, performing either as a soloist\, in a duet or with her full band project\, “Rustic Skies.” With a background in orchestral composition and music theory\, she aims to take musical traditions of the past and approach them with a modern outlook.\n\nMoon CactusCleveland-based multi-instrumentalist producer Moon Cactus fuses jazz\, pop\, indie rock\, and hip-hop into unique tracks with unforgettable melodies. Seamlessly transitioning from trumpet to guitar to vocals during live performances\, Moon Cactus shows are one of a kind. Exploring themes of love\, purpose\, and mental health\, Moon Cactus strives to inspire others to pursue what they love with purpose and resilience.https://www.instagram.com/mooncactusmusic/\n\nJosee McGee\nJosee McGee is a singer-songwriter from NE Ohio with a style that blends jazz\, 2000s pop\, soul\, and ‘70s folk. Known for her clever harmonies and honest lyrics\, her original music and covers explore themes of connection\, self-acceptance\, and personal growth. With an emphasis on variety in her setlists\, her voice and love for the craft makes for easy-listening and a lasting impression.\nhttps://www.joseemcgeemusic.com/
URL:https://clevelandrocksppf.org/event/workshop-2x4-showcase-college-radio/
LOCATION:Beachland Ballroom & Tavern\, 15711 Waterloo Rd\, Cleveland\, OH\, 44141\, United States
CATEGORIES:Community,CRPPF,Workshop
ATTACH;FMTTYPE=image/jpeg:https://clevelandrocksppf.org/wp-content/uploads/2025/10/Workshops-2025-FB-3-1.jpg
ORGANIZER;CN="Cleveland Rocks%3A Past%2C Present & Future":MAILTO:info@clevelandrocksppf.org
END:VEVENT
END:VCALENDAR