BEGIN:VCALENDAR
VERSION:2.0
PRODID:-//Cleveland Rocks: Past, Present &amp; Future - ECPv6.15.20//NONSGML v1.0//EN
CALSCALE:GREGORIAN
METHOD:PUBLISH
X-WR-CALNAME:Cleveland Rocks: Past, Present &amp; Future
X-ORIGINAL-URL:https://clevelandrocksppf.org
X-WR-CALDESC:Events for Cleveland Rocks: Past, Present &amp; Future
REFRESH-INTERVAL;VALUE=DURATION:PT1H
X-Robots-Tag:noindex
X-PUBLISHED-TTL:PT1H
BEGIN:VTIMEZONE
TZID:America/New_York
BEGIN:DAYLIGHT
TZOFFSETFROM:-0500
TZOFFSETTO:-0400
TZNAME:EDT
DTSTART:20250309T070000
END:DAYLIGHT
BEGIN:STANDARD
TZOFFSETFROM:-0400
TZOFFSETTO:-0500
TZNAME:EST
DTSTART:20251102T060000
END:STANDARD
BEGIN:DAYLIGHT
TZOFFSETFROM:-0500
TZOFFSETTO:-0400
TZNAME:EDT
DTSTART:20260308T070000
END:DAYLIGHT
BEGIN:STANDARD
TZOFFSETFROM:-0400
TZOFFSETTO:-0500
TZNAME:EST
DTSTART:20261101T060000
END:STANDARD
BEGIN:DAYLIGHT
TZOFFSETFROM:-0500
TZOFFSETTO:-0400
TZNAME:EDT
DTSTART:20270314T070000
END:DAYLIGHT
BEGIN:STANDARD
TZOFFSETFROM:-0400
TZOFFSETTO:-0500
TZNAME:EST
DTSTART:20271107T060000
END:STANDARD
END:VTIMEZONE
BEGIN:VEVENT
DTSTART;TZID=America/New_York:20260306T180000
DTEND;TZID=America/New_York:20260306T200000
DTSTAMP:20260424T225512
CREATED:20260214T003057Z
LAST-MODIFIED:20260225T231804Z
UID:14948-1772820000-1772827200@clevelandrocksppf.org
SUMMARY:Waterloo Makes Music: Sadhu and Theresa May
DESCRIPTION:Waterloo Makes Music is a free concert series\, presented by Cleveland Rocks: Past\, Present\, Future\, showcasing acts from the Cleveland music scene at various locations in the Waterloo Arts & Entertainment District. \nFri\, March 6\, 2026 • 6-8pm\nPraxis Fiber Workshop (15301 Waterloo Rd)\nFree event! RSVP Here. \n\n\nSadhu\nCleveland native\, Sadhu\, is a gifted lyricist with a smooth\, soulful voice. Sadhu is a self published\, independent artist that has enjoyed music from a young age and got her start singing in the youth choir at church. Further championed by her family and peers to pursue music as a career\, Sadhu plans to bring her music to a world stage by performing solo and singing lead in the band\, S.Y.S. (Save yourself). In the music video of her new single\, “Love Me”\, Sadhu is seen playing in a ball pit singing\, “I grab myself\, and hug me\, I don’t need no company”\, depicting how self love can be fun. Written after a bad breakup\, the song shows how art can be a healthy outlet for many people. To stay updated\, follow her on social media\, her music is available on all platforms.\nwww.youtube.com/@sadhusounds\nwww.instagram.com/Sadhu_Sounds\nwww.tiktok.com/@sadhu_sounds\nhttps://open.spotify.com/artist/5Jfz0uoB2ADTzMQUwfE6ye\n\nTheresa MayTheresa May is a trumpeter\, educator\, and creator based in Cleveland\, Ohio. She is a professor at Cuyahoga Community College and enjoys exploring a wide range of genres and art forms. Theresa has performed with many groups\, including the Cleveland Jazz Orchestra and Mourning [A] BLKstar\, and also creates beat-based music under the moniker Dizygotic Energy.https://www.instagram.com/mochatrumpetgal\n\n\nUnfortunately\, Charity Evonna is no longer able to perform at WMM. \n\n\nThis event is made possible with support from Cuyahoga Arts and Culture and The Ohio Arts Council.\n\n\n 
URL:https://clevelandrocksppf.org/event/waterloo-makes-music-charityevonna-theresamay/
LOCATION:Praxis Fiber Gallery\, 15301 Waterloo Rd\, Cleveland\, 44110\, United States
CATEGORIES:Concerts,CRPPF,Waterloo Makes Music
ATTACH;FMTTYPE=image/jpeg:https://clevelandrocksppf.org/wp-content/uploads/2026/02/26-WMM-March-2-1.jpg
ORGANIZER;CN="Cleveland Rocks%3A Past%2C Present & Future":MAILTO:info@clevelandrocksppf.org
END:VEVENT
END:VCALENDAR