BEGIN:VCALENDAR
VERSION:2.0
PRODID:-//Cleveland Rocks: Past, Present &amp; Future - ECPv6.15.20//NONSGML v1.0//EN
CALSCALE:GREGORIAN
METHOD:PUBLISH
X-ORIGINAL-URL:https://clevelandrocksppf.org
X-WR-CALDESC:Events for Cleveland Rocks: Past, Present &amp; Future
REFRESH-INTERVAL;VALUE=DURATION:PT1H
X-Robots-Tag:noindex
X-PUBLISHED-TTL:PT1H
BEGIN:VTIMEZONE
TZID:America/New_York
BEGIN:DAYLIGHT
TZOFFSETFROM:-0500
TZOFFSETTO:-0400
TZNAME:EDT
DTSTART:20250309T070000
END:DAYLIGHT
BEGIN:STANDARD
TZOFFSETFROM:-0400
TZOFFSETTO:-0500
TZNAME:EST
DTSTART:20251102T060000
END:STANDARD
BEGIN:DAYLIGHT
TZOFFSETFROM:-0500
TZOFFSETTO:-0400
TZNAME:EDT
DTSTART:20260308T070000
END:DAYLIGHT
BEGIN:STANDARD
TZOFFSETFROM:-0400
TZOFFSETTO:-0500
TZNAME:EST
DTSTART:20261101T060000
END:STANDARD
BEGIN:DAYLIGHT
TZOFFSETFROM:-0500
TZOFFSETTO:-0400
TZNAME:EDT
DTSTART:20270314T070000
END:DAYLIGHT
BEGIN:STANDARD
TZOFFSETFROM:-0400
TZOFFSETTO:-0500
TZNAME:EST
DTSTART:20271107T060000
END:STANDARD
END:VTIMEZONE
BEGIN:VEVENT
DTSTART;TZID=America/New_York:20260501T180000
DTEND;TZID=America/New_York:20260501T200000
DTSTAMP:20260424T225743
CREATED:20260401T203528Z
LAST-MODIFIED:20260401T204129Z
UID:15409-1777658400-1777665600@clevelandrocksppf.org
SUMMARY:Waterloo Makes Music: Rustic Skies and The Baker's Basement
DESCRIPTION:Waterloo Makes Music is a free concert series\, presented by Cleveland Rocks: Past\, Present\, Future\, showcasing acts from the Cleveland music scene at various locations in the Waterloo Arts & Entertainment District. \nFri\, May 1\, 2026 • 6-8pm\nTreelawn Music Hall (15335 Waterloo Rd)\nFree event!  RSVP Here. \n\n\nRustic SkiesRustic Skies is an indie band from the Cleveland/Akron area fronted by an electric cello. Through songs that showcase the highs and lows of life and the human experience\, their music blends jazz\, funk and rock to bring a unique performance to the stage. Within their first year\, they have had the honor of releasing four singles\, performing at IngenuityFest and Folk and Flora Fest\, opening for The Wildwoods\, and being named Best New Artist in the 2025 Cleveland Music Awards.https://linktr.ee/Rusticskieshttps://www.instagram.com/rusticskiesband/https://www.facebook.com/people/Rustic-Skies/61569145451200\n\nThe Baker’s BasementTwo-piece\, Cleveland based adventure-folk band the Baker’s Basement (tBB) features the eclectic musical stylings of vocalist/drummer Kate Dedinsky and vocalist/guitarist Adam Grindler. At their rhythmic core pulses an orange striped\, homemade\, bucket-drum concoction\, the funky back beat on which Dedinsky performs standing up with her signature swagger and sway. The duo’s intimate sound\, rooted in a spirited and poignant flavor of indie-folk music and topped with playful vocal layers\, offers a heart-wrenching yet at times humorous sonic signature that’s altogether their own. Always active live and in studio\, tBB released a full length album in November of 2024 titled “Down Down Domino” followed by two 2025 singles: “Singing to the Plants” and “Come To Terms with Going Ghost” (released Nov 20\, 2025). TBB is kicking off their 2026 live schedule with a Mid-Atlantic tour in line with their next single release entitled “Worry Now” – the first of several singles due to release in 2026.https://www.thebakersbasement.com/https://www.facebook.com/theBakersBasement\n\n\n\nThis event is made possible with support from Cuyahoga Arts and Culture and The Ohio Arts Council.\n\n\n 
URL:https://clevelandrocksppf.org/event/3waterloo-makes-music-rustic-skies-bakers-basement/
LOCATION:The Treelawn\, 15335 Waterloo Road\, Cleveland\, Ohio\, 44110\, United States
CATEGORIES:Concerts,CRPPF,Waterloo Makes Music
ATTACH;FMTTYPE=image/jpeg:https://clevelandrocksppf.org/wp-content/uploads/2026/04/41-WMM-March.jpg
ORGANIZER;CN="Cleveland Rocks%3A Past%2C Present & Future":MAILTO:info@clevelandrocksppf.org
END:VEVENT
END:VCALENDAR