BEGIN:VCALENDAR
VERSION:2.0
PRODID:-//Cleveland Rocks: Past, Present &amp; Future - ECPv6.15.20//NONSGML v1.0//EN
CALSCALE:GREGORIAN
METHOD:PUBLISH
X-ORIGINAL-URL:https://clevelandrocksppf.org
X-WR-CALDESC:Events for Cleveland Rocks: Past, Present &amp; Future
REFRESH-INTERVAL;VALUE=DURATION:PT1H
X-Robots-Tag:noindex
X-PUBLISHED-TTL:PT1H
BEGIN:VTIMEZONE
TZID:America/New_York
BEGIN:DAYLIGHT
TZOFFSETFROM:-0500
TZOFFSETTO:-0400
TZNAME:EDT
DTSTART:20200308T070000
END:DAYLIGHT
BEGIN:STANDARD
TZOFFSETFROM:-0400
TZOFFSETTO:-0500
TZNAME:EST
DTSTART:20201101T060000
END:STANDARD
BEGIN:DAYLIGHT
TZOFFSETFROM:-0500
TZOFFSETTO:-0400
TZNAME:EDT
DTSTART:20210314T070000
END:DAYLIGHT
BEGIN:STANDARD
TZOFFSETFROM:-0400
TZOFFSETTO:-0500
TZNAME:EST
DTSTART:20211107T060000
END:STANDARD
BEGIN:DAYLIGHT
TZOFFSETFROM:-0500
TZOFFSETTO:-0400
TZNAME:EDT
DTSTART:20220313T070000
END:DAYLIGHT
BEGIN:STANDARD
TZOFFSETFROM:-0400
TZOFFSETTO:-0500
TZNAME:EST
DTSTART:20221106T060000
END:STANDARD
BEGIN:DAYLIGHT
TZOFFSETFROM:-0500
TZOFFSETTO:-0400
TZNAME:EDT
DTSTART:20230312T070000
END:DAYLIGHT
BEGIN:STANDARD
TZOFFSETFROM:-0400
TZOFFSETTO:-0500
TZNAME:EST
DTSTART:20231105T060000
END:STANDARD
END:VTIMEZONE
BEGIN:VEVENT
DTSTART;TZID=America/New_York:20220506T190000
DTEND;TZID=America/New_York:20220506T230000
DTSTAMP:20260425T235606
CREATED:20220331T171640Z
LAST-MODIFIED:20220429T124344Z
UID:4287-1651863600-1651878000@clevelandrocksppf.org
SUMMARY:Waterloo Makes Music: Shirley Cook with Ava Preston Trio
DESCRIPTION:Waterloo Makes Music (WMM) is a free concert series\, programmed by Cleveland Rocks: Past\, Present\, Future\, as a gift to all the music lovers in the community\, and a celebration of Cleveland’s amazing musical legacy. Held in the Waterloo Arts & Entertainment District\, the Tower series features local Waterloo area bands/musicians.\n\nFriday\, May 6\, 2022\n7pm at the Beachland Ballroom\nFree Show\n\n\nShirley Cook:\nShirley Cook is a sultry\, smoky\, and internationally acclaimed jazz singer from Cleveland\, Ohio. Ms. Cook has been bringing her improvisational jazz vocals to the Cleveland music scene for over 36 years. She’s been noted by the Plain Dealer as having a “deep alto voice reminiscent of the late Carmen McRae.” Also\, by the Call & Post for being a “dynamic jazz vocalist who has her own style with ballads and tempos.” Ms. Cook’s captivating and highly interactive performances have a way of making you feel like she’s singing to you and only you. Through her music\, Ms. Cook shares her personal experiences in hopes people will be able to connect and see themselves within her music.\nOver the course of her career\, Ms. Cook has derived numerous aspects of her style from her early roots in the gospel church. Born in Stotesbury\, West Virginia\, Ms. Cook moved to Cleveland at the age of two. At the age of eleven\, she began singing in a gospel music group alongside some of her aunts. They performed for numerous church and social functions throughout the city. Throughout her early life\, Ms. Cook continued to sing with her aunts and through the help of a friend\, was introduced to the inspirational music of the late Billie Holiday\, Etta James\, Abbey Lincoln\, and many more.\nAlong with her work on the stage\, Ms. Cook has devoted many years of her life to the care and nurturance of the Cleveland jazz scene. She has helped to organize the annual Tri-C Jazz Fest on multiple occasions. When asked to organize the event\, Ms. Cook rounded up 72 local musicians in a span of two weeks. Ms. Cook has an astounding record within the community and unceasingly projects her love for jazz in everything she does. Ms. Cook currently resides in the Cleveland area and continues to showcase her charismatic spirit through her performances.\n\n\n\nAva Preston:   \nAva has also performed as a guest singer at a number of national venues including Birdland Jazz Club (New York)\, Bluebird Café (Nashville)\, Andy’s Jazz Café (Chicago) and the Monty Alexander Jazz Festival (Easton\, MD). She has participated in some prestigious summer jazz workshops for vocalists including Grammy Camp\, Stanford Jazz Workshop\, Litchfield Jazz Camp\, New York Voices\, Jazz Port Townsend and Tri-C JazzFest Academy. \nAva sings a variety of genres and languages including songs in French\, Portuguese and Spanish. Ava draws inspiration from jazz legends like Ella Fitzgerald\, Sarah Vaughn\, Billie Holiday\, Cyrille Aimee and Astrud Gilberto. Ava believes music is a universal language that can unite people and promote acceptance of differences around the world.  \nAva’s mentors include internationally acclaimed trumpeter Dominick Farinacci (TED Speaker & former Global Ambassador to Jazz at Lincoln Center)\, pianist Theron Brown (Director of the Rubber City Jazz & Blues Festival)\, vocal icon Kim Nazarian (Grammy Nominated New York Voices)\, guitarist Kurt Reed (Director of Fairlawn & Hudson School of Music)\, and singer/songwriter Susan Anders (Acclaimed Nashville Vocal Coach) among others. \nAva’s artistic influences and inspiration are best explained in her own words. She writes:  \n“I find people inspiring most of all. Listening to the vocal “greats” including Ella Fitzgerald\, Billie Holiday\, Sarah Vaughn\, Louis Armstrong and Nina Simone and appreciating their strong voices\, not only in their singing\, but in equality for all\, truly made jazz into a movement as much as a genre. More modern artists such as Sarah Bareilles\, Nora Jones\, Alanis Morissette\, Stevie Nicks\, Eva Cassidy\, Esperanza Spalding\, Jazzmeia Horn\, Jean Baylor\, Somi\, and Diana Krall stimulate my creative expression.  \nI believe that music is a universal language that can unite people around the world. My platforms are dedicated to promoting unity and anti-bullying. My hope is to move society in a positive direction with my art. Although world peace is a nice thought\, I believe it is an unrealistic absolute for a flawed human condition. My goal is to spread world tolerance and the acceptance of differences through my music.” \n\n\nwww.avaprestonmusic.com\n\n\nThis specific show on May 6th is presented in collaboration with Soul City Cleveland\, Fanon Hill’s documentary project that exists as a movement for community education about local culture.\n\n\nThe WMM Series is made possible with support from The Ohio Arts Council and Cuyahoga Arts & Culture.
URL:https://clevelandrocksppf.org/event/waterloo-makes-music-shirley-cook/
LOCATION:Beachland Ballroom & Tavern\, 15711 Waterloo Rd\, Cleveland\, OH\, 44141\, United States
CATEGORIES:Concerts,CRPPF,Waterloo Makes Music
ATTACH;FMTTYPE=image/png:https://clevelandrocksppf.org/wp-content/uploads/2022/04/WMM-2022-Facebook-Header-1.png
ORGANIZER;CN="Cleveland Rocks%3A Past%2C Present & Future":MAILTO:info@clevelandrocksppf.org
END:VEVENT
BEGIN:VEVENT
DTSTART;TZID=America/New_York:20220402T193000
DTEND;TZID=America/New_York:20220402T230000
DTSTAMP:20260425T235606
CREATED:20220315T195323Z
LAST-MODIFIED:20220331T152639Z
UID:4041-1648927800-1648940400@clevelandrocksppf.org
SUMMARY:Waterloo Makes Music: Maura Rogers & The Bellows w/Chris Allen
DESCRIPTION:Cleveland Rocks: Past\, Present\, Future presents Maura Rogers and the Bellows with Chris Allen at the Praxis Fiber Workshop Gallery. Doors open at 7pm. Show starts at 7:30pm. Show your proof of vaccination at the door.\nMR&B is an Americana band rooted in rock\, folk\, and blues. Female fronted with powerful musicianship\nwww.maurarogers.com\nChris Allen ( Falling Stars\, The Boys from the County Hell\, The Ohio City Singers)\nwww.chrisallenmusic.com\nTickets are $20. Buy Now!\nWine and Beer provided (donations are deeply appreciated)
URL:https://clevelandrocksppf.org/event/waterloo-makes-music-w-maura-rogers-the-bellows/
LOCATION:Praxis Fiber Gallery\, 15301 Waterloo Rd\, Cleveland\, 44110\, United States
CATEGORIES:Concerts,CRPPF,Waterloo Makes Music
ATTACH;FMTTYPE=image/png:https://clevelandrocksppf.org/wp-content/uploads/2022/03/WMM-2022-MRB.png
ORGANIZER;CN="Cleveland Rocks%3A Past%2C Present & Future":MAILTO:info@clevelandrocksppf.org
END:VEVENT
BEGIN:VEVENT
DTSTART;TZID=America/New_York:20210903T190000
DTEND;TZID=America/New_York:20210903T210000
DTSTAMP:20260425T235606
CREATED:20210506T234855Z
LAST-MODIFIED:20210809T171954Z
UID:2349-1630695600-1630702800@clevelandrocksppf.org
SUMMARY:Waterloo Makes Music w/Nancy Redd-Shelton and the 9th Street Tuna Band
DESCRIPTION:Cleveland Rocks: Past Present Future has been creating free public concerts in the Waterloo Arts and Entertainment district for the past 4 years and we are back at again in 2021\, as we all emerge from the COVID shutdown of the past 14 months. The impacts of COVID-19 have been dire for working musicians and the music industry as a whole. Last year we had to pivot and do virtual concerts\, but were able to pay our scheduled musicians and actually help expand audiences because of the added online reach. This year we hope to do both live and live streaming. \nThis month’s event will feature Nancy Redd-Shelton and the 9th Street Tuna Band. \nWatch the Livestream: https://www.youtube.com/watch?v=_Wck78kjNi4 \nNancy Redd-Shelton: The Sounds of Jazz featuring Nancy  Redd on Flute and Vocals originated in 2004. The Sounds of Jazz is a mix of Jazz and Pop Standards. The Sounds of Jazz continues to celebrate the authenticity and origins of  “REAL JAZZ” with a hint of smooth jazz and pop standards. \nMary Martin and the 9th Street Tuna Band: The band has been a mainstay on the Cleveland music scene\, for the last 40 years.  Their style\, runs the range from blues to jazz\, original to covers.  And always\, always\, a delight to hear…. \nThe Waterloo Makes Music series will take place the first Friday of the month June-September as part of the monthly Walk All Over Waterloo art walk. Your support allows us to again pay musicians and the production team needed to mount our Waterloo Makes Music series.
URL:https://clevelandrocksppf.org/event/waterloo-makes-music-3/
LOCATION:Waterloo Tower\, Waterloo Rd at 156th St.\, Cleveland\, OH\, 44110\, United States
CATEGORIES:Concerts,CRPPF,Waterloo Makes Music
ATTACH;FMTTYPE=image/jpeg:https://clevelandrocksppf.org/wp-content/uploads/2021/06/NancyRedd.jpg
ORGANIZER;CN="Cleveland Rocks%3A Past%2C Present & Future":MAILTO:info@clevelandrocksppf.org
END:VEVENT
BEGIN:VEVENT
DTSTART;TZID=America/New_York:20210806T190000
DTEND;TZID=America/New_York:20210806T210000
DTSTAMP:20260425T235606
CREATED:20210506T234821Z
LAST-MODIFIED:20210804T185214Z
UID:2346-1628276400-1628283600@clevelandrocksppf.org
SUMMARY:Waterloo Makes Music w/Moko Bovo & The Covemen
DESCRIPTION:Cleveland Rocks: Past Present Future has been creating free public concerts in the Waterloo Arts and Entertainment district for the past 4 years and we are back at again in 2021\, as we all emerge from the COVID shutdown of the past 14 months. The impacts of COVID-19 have been dire for working musicians and the music industry as a whole. Last year we had to pivot and do virtual concerts\, but were able to pay our scheduled musicians and actually help expand audiences because of the added online reach. This year we hope to do both live and live streaming. \nWatch the Livestream: https://www.youtube.com/watch?v=ru1YulEJPzA \nThis month’s event will feature Moko Bovo and The Covemen. \nMoKo Bovo: MoKo BoVo was founded to improvise and experiment in 1989.  We want to reach people\, draw them in\, and take them new places.  Insert spoken word and “out” sections in the middle of a traditional blues.  We play covers that people don’t recognize.  Get deep into tradition and experiment in that fertile place.  Dan Bode\, Rick Kodramaz\, and Al Moses have been a constant over the years; for this special Tower Series showwe have Pete Dell on drums\, who played with us in the 90s.  Let’s play. \nCovemen: Birthed from a Cove in North Collinwood and molded by the power of our Old Great Lake\, the Covemen create and perform original garage rock and roll for the sole purpose of having fun. \nThe Waterloo Makes Music series will take place the first Friday of the month June-September as part of the monthly Walk All Over Waterloo art walk. Your support allows us to again pay musicians and the production team needed to mount our Waterloo Makes Music series.
URL:https://clevelandrocksppf.org/event/waterloo-makes-music-2/
LOCATION:Waterloo Tower\, Waterloo Rd at 156th St.\, Cleveland\, OH\, 44110\, United States
CATEGORIES:Concerts,CRPPF,Waterloo Makes Music
ATTACH;FMTTYPE=image/jpeg:https://clevelandrocksppf.org/wp-content/uploads/2021/06/MokoBovo-1000px.jpg
ORGANIZER;CN="Cleveland Rocks%3A Past%2C Present & Future":MAILTO:info@clevelandrocksppf.org
END:VEVENT
BEGIN:VEVENT
DTSTART;TZID=America/New_York:20210702T190000
DTEND;TZID=America/New_York:20210702T210000
DTSTAMP:20260425T235606
CREATED:20210506T234712Z
LAST-MODIFIED:20210629T162738Z
UID:2344-1625252400-1625259600@clevelandrocksppf.org
SUMMARY:Waterloo Makes Music w/Erin Neal and the Chill Factors & Non Bruises
DESCRIPTION:Cleveland Rocks: Past Present Future has been creating free public concerts in the Waterloo Arts and Entertainment district for the past 4 years and we are back at again in 2021\, as we all emerge from the COVID shutdown of the past 14 months. The impacts of COVID-19 have been dire for working musicians and the music industry as a whole. Last year we had to pivot and do virtual concerts\, but were able to pay our scheduled musicians and actually help expand audiences because of the added online reach. This year we hope to do both live and live streaming. \nThis month’s event will feature Erin Neal and the Chill Factors and the Non Bruises. \nJoin us in person for this free event (standing room only) or watch the virtual livestream. \nErin Neal & The Chill Factors: Eclectic Cleveland based band formed in 2015. Erin Nicole Neal & The Chill Factors\, delve into Blues\, Rock\, Pop\, Soul\, Jazz\, Funk\, R&B\, Gospel and Reggae. The band plays all over Northeast\, Ohio for private and public events. Covers include artists like Aretha Franklin\, BB King\, Janis Joplin\, Bob Marley\, The Temptations\, Bill Withers\, Bad Company\, The Beatles\, Michael Jackson and more! \nNon Bruises: non bruises are locals Elliott Hoffmann (drums)\, Carol Schumacher (bass/vox)\, Andy Stibora (gtr/vox)\, and Mike Uva (gtr/vox). non bruises is a real team effort\, representing both east and west neighborhoods in our fair city. non bruises write songs on the fly and title them impulsively. Drone-y\, chime-y\, bend-y\, space-y\, non bruises puts their collective ear to the ground for sweet hooks\, tangled guitar lines\, and propulsive rhythms. non bruises hope to inspire others to start a band with friends\, hang out\, and make music. it can be a fun and healthy activity! \nThe Waterloo Makes Music series will take place the first Friday of the month June-September as part of the monthly Walk All Over Waterloo art walk. Your support allows us to again pay musicians and the production team needed to mount our Waterloo Makes Music series.
URL:https://clevelandrocksppf.org/event/waterloo-makes-music/
LOCATION:Waterloo Tower\, Waterloo Rd at 156th St.\, Cleveland\, OH\, 44110\, United States
CATEGORIES:Concerts,CRPPF,Waterloo Makes Music
ATTACH;FMTTYPE=image/jpeg:https://clevelandrocksppf.org/wp-content/uploads/2021/06/ErinNeal.jpg
ORGANIZER;CN="Cleveland Rocks%3A Past%2C Present & Future":MAILTO:info@clevelandrocksppf.org
END:VEVENT
BEGIN:VEVENT
DTSTART;TZID=America/New_York:20210604T190000
DTEND;TZID=America/New_York:20210604T213000
DTSTAMP:20260425T235606
CREATED:20210506T234550Z
LAST-MODIFIED:20210629T162741Z
UID:2329-1622833200-1622842200@clevelandrocksppf.org
SUMMARY:Waterloo Makes Music w/Soul City Cleveland
DESCRIPTION:Featuring Eddie Baccus\, Sr. w/Cecil Rucker\, Sr and Shirley Cook • Eugene Ross • Khairiya Reid \nJoin us in-person or online via livestream for this FREE event: \n\nReserve your FREE ticket or table by calling (216) 383-1124 or visit www.BeachlandBallroom.com.\nWant to join online? Watch Live on June 4th.\n\nCleveland Rocks: Past Present Future has been creating free public concerts in the Waterloo Arts and Entertainment district for the past 4 years and we are back at again in 2021\, as we all emerge from the COVID shutdown of the past 14 months. The impacts of COVID-19 have been dire for working musicians and the music industry as a whole. Last year we had to pivot and do virtual concerts\, but were able to pay our scheduled musicians and actually help expand audiences because of the added online reach. This year we hope to do both live and live streaming. But we need your help. \nThe Waterloo Makes Music series will take place the first Friday of the month June-September as part of the monthly Walk All Over Waterloo art walk. Your support allows us to again pay musicians and the production team needed to mount our Waterloo Makes Music series. \nDonate Now: https://ioby.org/project/waterloo-makes-music-soul-city-cleveland \nThrough a very special partnership\, we’re kicking off  the summer concert series on Waterloo as a celebration of Cleveland’s amazing musical legacy. Soul City Cleveland\, the National Rites of Passage Institute and the Youth Resiliency Institute\, are helping us celebrate the artistry\, self-determination\, and wisdom of elder Black musicians during a special concert taking place on June 4\, at the Beachland Ballroom\, in celebration of African American Music Appreciation Month. East Cleveland-native Fanon Hill is already creating the film Soul City Cleveland as a love letter to Black music\, Ohio\, and the unheralded elder musicians who most embody its spirit of self-determination. \nFrom studio sessions with Jimi Hendrix\, to launching world-renowned independent record labels\, the stories that Soul City Cleveland has uncovered tell the story of Black music in one of America’s most important musical cities\, taking viewers on a music-filled journey from Cleveland to Japan\, the U.K and beyond. In addition to creating this documentary\, Soul City Cleveland and Cleveland Rocks PPF are planning to host a variety of activities and events throughout the year that help to reduce the social isolation and invisibility of elder Black artists while actively preserving\, promoting\, and celebrating their rich contributions to music culture in Cleveland. \nOur June concert event will be a celebration of that mission\, and will also kick off the live music season in the Waterloo Arts District with a roster of some of our greatest black musicians paired with an exhibit of artwork and photography reflecting this remarkable music culture. Our show will feature Cleveland jazz great\, Eddie Baccus\, Sr. Joining him will be an All-Star Soul City Cleveland lineup including Cecil Rucker\, Sr.\, on vibraphone and Shirley Cook as the featured vocalist. Also on the bill is Eugene Ross\, one of Cleveland’s most versatile entertainers. Ross is an accomplished singer\, guitarist\, songwriter and total performer who has worked with legendary Motown Stars and opened up for Liza Minnelli\, Scott Hamilton\, Kenny Loggins\, and the Beach Boys. Ross has performed at the White House\, Martha’s Vineyard\, the Rock & Roll Hall of Fame and beyond. \nThe event will include a photo exhibition anchored by the photography of 20-year-old Soul City Cleveland Stories photographer\, Khairiya Reid. Reid has been documenting Soul City Cleveland film focal points and locations significant to Greater Cleveland’s African American music heritage as part of Soul City Cleveland Stories. \nA partnership between Cleveland Rocks: Past\, Present and Future\, the National Rites of Passage Institute and the Youth Resiliency Institute\, Soul City Cleveland Stories is a culturally responsive community arts pilot project designed to connect youth and young adults residing in under-resourced communities to elder Black artists through generative immersion. By supporting this concert\, you will not only be getting the opportunity to attend a one-of-a-kind celebration of African American musicianship in Cleveland – you will also be helping to preserve and share this legacy for generations to come! \nDonate Now: https://ioby.org/project/waterloo-makes-music-soul-city-cleveland
URL:https://clevelandrocksppf.org/event/waterloo-makes-music-w-soul-city-cleveland/
LOCATION:Beachland Ballroom & Tavern\, 15711 Waterloo Rd\, Cleveland\, OH\, 44141\, United States
CATEGORIES:Concerts,CRPPF,Waterloo Makes Music
ATTACH;FMTTYPE=image/jpeg:https://clevelandrocksppf.org/wp-content/uploads/2021/05/WaterlooMakesMusicLogo_featureimg2.jpg
ORGANIZER;CN="Cleveland Rocks%3A Past%2C Present & Future":MAILTO:info@clevelandrocksppf.org
END:VEVENT
END:VCALENDAR