BEGIN:VCALENDAR
VERSION:2.0
PRODID:-//Cleveland Rocks: Past, Present &amp; Future - ECPv6.15.20//NONSGML v1.0//EN
CALSCALE:GREGORIAN
METHOD:PUBLISH
X-ORIGINAL-URL:https://clevelandrocksppf.org
X-WR-CALDESC:Events for Cleveland Rocks: Past, Present &amp; Future
REFRESH-INTERVAL;VALUE=DURATION:PT1H
X-Robots-Tag:noindex
X-PUBLISHED-TTL:PT1H
BEGIN:VTIMEZONE
TZID:America/New_York
BEGIN:DAYLIGHT
TZOFFSETFROM:-0500
TZOFFSETTO:-0400
TZNAME:EDT
DTSTART:20250309T070000
END:DAYLIGHT
BEGIN:STANDARD
TZOFFSETFROM:-0400
TZOFFSETTO:-0500
TZNAME:EST
DTSTART:20251102T060000
END:STANDARD
BEGIN:DAYLIGHT
TZOFFSETFROM:-0500
TZOFFSETTO:-0400
TZNAME:EDT
DTSTART:20260308T070000
END:DAYLIGHT
BEGIN:STANDARD
TZOFFSETFROM:-0400
TZOFFSETTO:-0500
TZNAME:EST
DTSTART:20261101T060000
END:STANDARD
BEGIN:DAYLIGHT
TZOFFSETFROM:-0500
TZOFFSETTO:-0400
TZNAME:EDT
DTSTART:20270314T070000
END:DAYLIGHT
BEGIN:STANDARD
TZOFFSETFROM:-0400
TZOFFSETTO:-0500
TZNAME:EST
DTSTART:20271107T060000
END:STANDARD
END:VTIMEZONE
BEGIN:VEVENT
DTSTART;TZID=America/New_York:20260122T160000
DTEND;TZID=America/New_York:20260122T180000
DTSTAMP:20260425T152909
CREATED:20260110T021044Z
LAST-MODIFIED:20260113T215155Z
UID:14680-1769097600-1769104800@clevelandrocksppf.org
SUMMARY:Sound of the Land: Brent Kirby & Andy Leach
DESCRIPTION:Cleveland Rocks:PPF and the Fidelity Hotel in Downtown Cleveland are partnering to present the Sound of the Land Live Music Series. Each month\, enjoy music from a different local artist to elevate your Thursday night happy hour. Free shows!\n\nJanuary 22\, 2026 | 4-6pm | Fidelity Hotel Lobby\nBrent Kirby & Andy Leach\nGenre | Folk\, Folk Rock\nBrent Kirby’s music has been called “Main Character” music\, which is representative of the personal emotion and collective perspective he offers in his songs. His performances are reflective in nature\, with the listeners often finding themselves as a catalyst in the song.\n\nKirby’s universal lyrics are on the surface specific and at the same time deeply layered\, where the audience can find a common and personal point of relation and entry into the song. His soulful voice is both unique and soothing\, colored with weathered age and experience.\n\nIn 2022\, Brent was voted “Best Folk” by the Cleveland Music Awards and nominated for “Best Songwriter” by the Cleveland Scene. Andy Leach and Kirby have played together for years in different bands\, and Leach’s guitar and vocal harmony give Kirby’s songs the perfect lift.\n\nLearn more: https://fidelityhotelcle.com/happenings#soundofthelandlineup
URL:https://clevelandrocksppf.org/event/sound-of-the-land-brent-kirby-andy-leach/
LOCATION:The Fidelity Hotel\, 1940 E 6th St\, Cleveland\, OH\, 44114\, United States
CATEGORIES:Concerts
ATTACH;FMTTYPE=image/jpeg:https://clevelandrocksppf.org/wp-content/uploads/2026/01/ClevelandRocksBanner_Jan-2026-1920x1005-1.jpg
ORGANIZER;CN="Cleveland Rocks%3A Past%2C Present & Future":MAILTO:info@clevelandrocksppf.org
END:VEVENT
END:VCALENDAR