BEGIN:VCALENDAR
VERSION:2.0
PRODID:-//Cleveland Rocks: Past, Present &amp; Future - ECPv6.15.20//NONSGML v1.0//EN
CALSCALE:GREGORIAN
METHOD:PUBLISH
X-WR-CALNAME:Cleveland Rocks: Past, Present &amp; Future
X-ORIGINAL-URL:https://clevelandrocksppf.org
X-WR-CALDESC:Events for Cleveland Rocks: Past, Present &amp; Future
REFRESH-INTERVAL;VALUE=DURATION:PT1H
X-Robots-Tag:noindex
X-PUBLISHED-TTL:PT1H
BEGIN:VTIMEZONE
TZID:America/New_York
BEGIN:DAYLIGHT
TZOFFSETFROM:-0500
TZOFFSETTO:-0400
TZNAME:EDT
DTSTART:20250309T070000
END:DAYLIGHT
BEGIN:STANDARD
TZOFFSETFROM:-0400
TZOFFSETTO:-0500
TZNAME:EST
DTSTART:20251102T060000
END:STANDARD
BEGIN:DAYLIGHT
TZOFFSETFROM:-0500
TZOFFSETTO:-0400
TZNAME:EDT
DTSTART:20260308T070000
END:DAYLIGHT
BEGIN:STANDARD
TZOFFSETFROM:-0400
TZOFFSETTO:-0500
TZNAME:EST
DTSTART:20261101T060000
END:STANDARD
BEGIN:DAYLIGHT
TZOFFSETFROM:-0500
TZOFFSETTO:-0400
TZNAME:EDT
DTSTART:20270314T070000
END:DAYLIGHT
BEGIN:STANDARD
TZOFFSETFROM:-0400
TZOFFSETTO:-0500
TZNAME:EST
DTSTART:20271107T060000
END:STANDARD
END:VTIMEZONE
BEGIN:VEVENT
DTSTART;TZID=America/New_York:20260206T180000
DTEND;TZID=America/New_York:20260206T200000
DTSTAMP:20260425T135648
CREATED:20260123T165954Z
LAST-MODIFIED:20260205T220126Z
UID:14775-1770400800-1770408000@clevelandrocksppf.org
SUMMARY:Waterloo Makes Music: Afi Scruggs and Jeffrey Cruz
DESCRIPTION:Waterloo Makes Music is a free concert series\, presented by Cleveland Rocks: Past\, Present\, Future\, showcasing acts from the Cleveland music scene at various locations in the Waterloo Arts & Entertainment District. \nFri\, February 6\, 2026 • 6-8pm\nTreelawn Social Club (15335 Waterloo Rd)\nFree event! RSVP Here. \n\nAfi ScruggsLove the blues? You’ll love Afi. Love RnB? You’ll love Afi. If you love to groove\, no matter the music\, you’ll definitely want to be in the audience when Afi plays. Whether solo or with her band\, Afi’s mission is to get you swaying and tapping your feet. Afi plays bass and keys. She’s a singer-songwriter as well as a producer. No matter the music\, Afi believes in the groove. Listen to her. You’ll hear the groove and you’ll definitely feel it.https://afiplaysmusic.com\n\nJeffrey CruzJeffrey Cruz is a singer – songwriter from Cleveland\, Ohio. Jeffrey draws inspiration from artists such as Marvin Gaye\, Stevie Wonder\, and Anderson .Paak. By using fun grooves and story telling lyrics; he aspires to write music that motivates\, resonates\, and empathizes with whoever the listener may be. His new single\, ‘Don’t Look Back’ is available on all streaming services.https://www.jeffreycruzmusic.com\n\n\nThis event is made possible with support from Cuyahoga Arts and Culture and The Ohio Arts Council.\n\n\n 
URL:https://clevelandrocksppf.org/event/waterloo-makes-music-feb2026/
LOCATION:The Treelawn\, 15335 Waterloo Road\, Cleveland\, Ohio\, 44110\, United States
CATEGORIES:Concerts,CRPPF,Waterloo Makes Music
ATTACH;FMTTYPE=image/jpeg:https://clevelandrocksppf.org/wp-content/uploads/2026/02/26-WMM-Feb.jpg
ORGANIZER;CN="Cleveland Rocks%3A Past%2C Present & Future":MAILTO:info@clevelandrocksppf.org
END:VEVENT
BEGIN:VEVENT
DTSTART;TZID=America/New_York:20260216T190000
DTEND;TZID=America/New_York:20260216T210000
DTSTAMP:20260425T135648
CREATED:20260204T204153Z
LAST-MODIFIED:20260204T205053Z
UID:14886-1771268400-1771275600@clevelandrocksppf.org
SUMMARY:Workshop & 2x4 Showcase: Master Your Process
DESCRIPTION:Cleveland Rocks: PPF’s Professional Development Workshops are held on the third Monday of the month. Each workshop will focus on a different music-related topic\, followed by a 2×4 Songwriter Showcase featuring 4 different artists\, 2 songs each. \nMaster Your Process: Bridging Imagination and Reality\nMon\, February 16\, 2026 • 7pm\nCleveland Rocks Shop (15801 Waterloo Rd)\nFree Event! RSVP here \nGuest Speaker: Nathan-Paul\nStay for The 2×4 Songwriter Showcase immediately following the workshop.\n2×4 Artists: Tommy Link\, Gregory Garwood\, Tad Fry\, and Adam Horvath\n  \nThis event is made possible with support from Cuyahoga Arts and Culture and The Ohio Arts Council. \n\n\n\nBios:  \n\nNathan-Paul \nNathan-Paul delivers what he calls “sound medicine”—a velvety\, lo-fi\, soul-driven blend of modern trap\, ’70s funk\, Southern gospel\, jazz\, and the raw spirit of Black American music. A lifelong musician who began singing in church by age five\, he is a multi-instrumentalist specializing in saxophone and flute\, a Jazz Studies graduate of the University of Akron\, and an improviser shaped by legends like Charlie Parker\, Miles Davis\, and John Coltrane. Writing from a place of joy and hospitality\, he sees music as something you leave with—something healing. \nA prolific artist\, educator\, and advocate for original music\, Nathan-Paul has released six albums and over 100 singles in seven years\, shared stages with icons like Gary Bartz\, War\, and Tower of Power\, and earned recognition from Cleveland Magazine and Black Men Teach CLE. He currently teaches at Tri-C’s Saturday Jazz Program and continues to push genre boundaries across hip-hop\, jazz\, rock\, gospel\, and beyond. His latest project\, Nathan-Paul & The Admirables\, embraces raw\, rock-edged energy and has already fueled a successful tour with Moon Hooch and a performance backing Dwele—proof of his belief that\, as he puts it\, “To not be original is the same as not existing.” \nTommy Link \nTommy Link is a singer songwriter\, singing guitarist and recording artist. Based out of Erie\, PA\, Tommy has been a consistent performer in the tri-state Great Lakes area since 2014. If you had to put a label on him\, call it indie-folk\, but he’s way better at singing songs than he is at writing bios.\nhttps://www.facebook.com/tommylinkmusic \nGregory Garwood \nWith his rust belt roots and midwest sensibilities\, Gregory Garwood is a talented Ohio-based musician known for his soulful vocals\, versatile guitar playing and insightful songwriting. With a passion for blending genres\, he has captivated audiences with his emotive performances and original compositions spanning country\, rock\, soul\, jazz\, and latin genres. Throughout his career\, Garwood has contributed to various musical projects and continues to inspire listeners with his artistry and dedication to his craft. Garwood has performed on barroom and stadium stages across the United States\, opening for artists like Eric Clapton\, Earth\, Wind & Fire\, Parliament Funkadelic\, Robert Randolph\, and countless others. Garwood enjoys his solo craft\, but truly relishes collaboration and sharing the stage with bandmates that include Walter Barnes Jr.\, Theron Brown\, Alfredo Guerierri\, Brent Lane\, Matthew Miller\, Dr. Peter Psarras\, Jim Wall\, Rock Wehrmann\, Evelyn Wright to name a few. Garwood is working on a new all-original album with said crew and continues to release approximately one song each month until complete.\nhttps://www.youtube.com/@garwoodband\nhttps://www.facebook.com/garwoodband \nTad Fry \nTad Scientist explores ambient soundscapes through solo live looping guitar and pedal effects! He enjoys playing original songs\, improvising\, and searching for his nemesis Pirate Bexley. Follow @tadscientist to help him find this pesky pirate!\nhttps://www.instagram.com/tadscientist \nAdam Horvath \ndam Horvath\, aka thehobbithimself\, is a Cleveland\, Ohio–based musician blending elements of rock\, alternative\, punk\, and acoustic music. Deeply rooted in independent songwriting\, he has been crafting songs since first picking up the guitar as a child. His work channels personal storytelling and raw emotional energy\, exploring themes of memory\, aspiration\, loss\, and the everyday human experience. \nIn December 2024\, he released his debut solo EP\, Sometimes Dreams—a six-song\, emotionally charged\, post-rock journey anchored by the singles “Sometimes Dreams” and “There You Are.” \nMomentum continued in March 2025 with the release of the hard-hitting single “OGALEENA\,” featuring hand-selected musicians from the Cleveland music scene. In November 2025\, “Birthday Luck” was released\, bringing a new lineup of collaborators into the recording session. \nLooking ahead to 2026\, thehobbithimself is hard at work on his first full-length release. \nwww.thehobbithimself.bandcamp.com \nInstagram: @thehobbithimself\nwww.facebook.com/adamhorvathistheman
URL:https://clevelandrocksppf.org/event/workshop-2x4-showcase-master-your-process/
LOCATION:Cleveland Rocks Shop\, 15801 Waterloo Road\, Cleveland\, OH\, 44119\, United States
CATEGORIES:CRPPF,Workshop
ATTACH;FMTTYPE=image/jpeg:https://clevelandrocksppf.org/wp-content/uploads/2026/02/Workshops-2026-FB.jpg
ORGANIZER;CN="Cleveland Rocks%3A Past%2C Present & Future":MAILTO:info@clevelandrocksppf.org
END:VEVENT
BEGIN:VEVENT
DTSTART;TZID=America/New_York:20260219T160000
DTEND;TZID=America/New_York:20260219T180000
DTSTAMP:20260425T135648
CREATED:20260110T021210Z
LAST-MODIFIED:20260113T215204Z
UID:14684-1771516800-1771524000@clevelandrocksppf.org
SUMMARY:Sound of the Land: Taylor Lamborn
DESCRIPTION:Cleveland Rocks:PPF and the Fidelity Hotel in Downtown Cleveland are partnering to present the Sound of the Land Live Music Series. Each month\, enjoy music from a different local artist to elevate your Thursday night happy hour. Free shows!\n\n\nFebruary 19\, 2026 | 4-6pm | Fidelity Hotel Lobby\nTaylor Lamborn\nGenre | Blues\, Rock\, Soul\n\nTaylor Lamborn is a Cleveland-based songwriter whose upcoming performance blends acoustic blues\, rock\, and soul drawn from multiple eras of popular music. Known for her commanding vocal presence and emotionally grounded songwriting\, Lamborn delivers songs that feel both timeless and deeply personal.\n\nAn active force in the Northeast Ohio music scene\, she has toured internationally and released multiple original projects as a fully self-managed independent artist. Her live performances balance her own bluesy style\, shaped by roots traditions and modern storytelling.\n\nAfter spending the COVID era revisiting her catalog through stripped-down live acoustic recordings\, Lamborn has returned to recording and performing with renewed focus and a talented lineup of musicians. She continues to bring a storyteller’s approach to the stage.\n\nTaylor Lamborn released Where the Heartache Ends on January 2\, 2026\, the first of several singles recorded at Suma Recording Studio and arriving throughout 2026.\n\n\nLearn more: https://fidelityhotelcle.com/happenings#soundofthelandlineup
URL:https://clevelandrocksppf.org/event/sound-of-the-land-taylor-lamborn/
LOCATION:The Fidelity Hotel\, 1940 E 6th St\, Cleveland\, OH\, 44114\, United States
CATEGORIES:Concerts
ATTACH;FMTTYPE=image/jpeg:https://clevelandrocksppf.org/wp-content/uploads/2026/01/ClevelandRocksBanner_Feb-2026-1920x1005-1.jpg
ORGANIZER;CN="Cleveland Rocks%3A Past%2C Present & Future":MAILTO:info@clevelandrocksppf.org
END:VEVENT
BEGIN:VEVENT
DTSTART;VALUE=DATE:20260221
DTEND;VALUE=DATE:20260222
DTSTAMP:20260425T135648
CREATED:20260123T170231Z
LAST-MODIFIED:20260123T170436Z
UID:14780-1771632000-1771718399@clevelandrocksppf.org
SUMMARY:Brite Winter 2026
DESCRIPTION:Brite Winter\, Cleveland’s premier music and art festival\, will again bring light to one of Cleveland’s coldest months on Saturday\, February 21\, 2026. Celebrating its 17th year\, Brite Winter will take place on the city’s east side in the vibrant Waterloo Arts District.
URL:https://clevelandrocksppf.org/event/brite-winter-2026/
LOCATION:OH
ATTACH;FMTTYPE=image/png:https://clevelandrocksppf.org/wp-content/uploads/2026/01/unnamed.png
END:VEVENT
END:VCALENDAR